BEGIN:VCALENDAR
VERSION:2.0
PRODID:-//IGI - Institut für Navigierte Implantologie - ECPv6.15.17.1//NONSGML v1.0//EN
CALSCALE:GREGORIAN
METHOD:PUBLISH
X-WR-CALNAME:IGI - Institut für Navigierte Implantologie
X-ORIGINAL-URL:https://www.guided-implants.com
X-WR-CALDESC:Veranstaltungen für IGI - Institut für Navigierte Implantologie
REFRESH-INTERVAL;VALUE=DURATION:PT1H
X-Robots-Tag:noindex
X-PUBLISHED-TTL:PT1H
BEGIN:VTIMEZONE
TZID:Europe/Berlin
BEGIN:DAYLIGHT
TZOFFSETFROM:+0100
TZOFFSETTO:+0200
TZNAME:CEST
DTSTART:20250330T010000
END:DAYLIGHT
BEGIN:STANDARD
TZOFFSETFROM:+0200
TZOFFSETTO:+0100
TZNAME:CET
DTSTART:20251026T010000
END:STANDARD
BEGIN:DAYLIGHT
TZOFFSETFROM:+0100
TZOFFSETTO:+0200
TZNAME:CEST
DTSTART:20260329T010000
END:DAYLIGHT
BEGIN:STANDARD
TZOFFSETFROM:+0200
TZOFFSETTO:+0100
TZNAME:CET
DTSTART:20261025T010000
END:STANDARD
BEGIN:DAYLIGHT
TZOFFSETFROM:+0100
TZOFFSETTO:+0200
TZNAME:CEST
DTSTART:20270328T010000
END:DAYLIGHT
BEGIN:STANDARD
TZOFFSETFROM:+0200
TZOFFSETTO:+0100
TZNAME:CET
DTSTART:20271031T010000
END:STANDARD
END:VTIMEZONE
BEGIN:VEVENT
DTSTART;TZID=Europe/Berlin:20260408T170000
DTEND;TZID=Europe/Berlin:20260408T200000
DTSTAMP:20260424T185819
CREATED:20260203T152108Z
LAST-MODIFIED:20260203T155149Z
UID:3045-1775667600-1775678400@www.guided-implants.com
SUMMARY:Paro- und Periimplantitis erfolgreich managen – Clean & Seal® im Praxisalltag
DESCRIPTION:Paro- und Periimplantitis erfolgreich managen – Clean & Seal® im Praxisalltag\nParodontitis und Periimplantitis zählen zu den größten Herausforderungen im zahnmedizinischen Alltag. Neben der richtigen Diagnostik entscheidet vor allem ein strukturiertes\, reproduzierbares Therapiekonzept über den langfristigen Erfolg. Genau hier setzt diese Fortbildung an. \nIm Mittelpunkt steht das Clean & Seal®-Konzept als systematischer Ansatz zur nichtchirurgischen Therapie von parodontalen und periimplantären Erkrankungen. Ziel ist es\, evidenzbasierte Grundlagen mit klaren\, praxisnahen Abläufen zu verbinden – von der Behandlung am Stuhl bis zur nachhaltigen Mundhygiene zu Hause. \nDie Fortbildung spannt bewusst den Bogen von der theoretischen Einordnung hin zur konkreten Umsetzung im Praxisalltag. Welche Möglichkeiten bietet die nichtchirurgische Therapie heute realistisch? Wo liegen ihre Grenzen – und wie lassen sich diese durch strukturierte Protokolle\, Teamintegration und Patientencompliance sinnvoll erweitern? \nEin weiterer Schwerpunkt liegt auf dem Mundhygienekonzept der Praxis: Anhand erprobter Praxisstrukturen werden Strategien vorgestellt\, die sich unmittelbar in den eigenen Workflow übertragen lassen. \nNeben Fachvorträgen und klinischen Einblicken lebt die Veranstaltung vom kollegialen Austausch. Reale Fallbeispiele\, offene Diskussionen und unterschiedliche Behandlungsansätze werden gemeinsam reflektiert – mit dem klaren Fokus auf Umsetzbarkeit und Alltagstauglichkeit. \nAbgerundet wird der Fortbildungsabend durch eine entspannte Diskussionsrunde bei Imbiss und Getränken. In persönlicher Atmosphäre entsteht Raum für Fragen\, Erfahrungsaustausch und neue Impulse – ganz im Sinne einer Fortbildung\, die nicht nur Wissen vermittelt\, sondern Haltung und Struktur. \nDr. Dr. Norman von Sternberg ist Facharzt für Mund-\, Kiefer- und Gesichtschirurgie sowie Fachzahnarzt für Oralchirurgie. Nach wissenschaftlicher Tätigkeit an den Universitätskliniken Kiel und Hamburg-Eppendorf führt er seit 2008 eine eigene Praxis in Hamburg. Seine Schwerpunkte liegen in der Implantologie und ästhetischen Zahnheilkunde. Mit seiner langjährigen Erfahrung ist er ein gefragter Referent für praxisnahe Falldiskussionen und moderne Konzepte in der Implantologie. \n\n\n\nReferenten\n\nDr. Dr. Norman von Sternberg\nJohanna Orlowski\nMarkus Theis\n\n\nSie erhalten 3 Fortbildungspunkte. Teilnahme kostenlos.
URL:https://www.guided-implants.com/veranstaltung/paro-und-periimplantitis-erfolgreich-managen-clean-seal-im-praxisalltag/
LOCATION:Praxis von Sternberg\, Spadenteich 1\, Hamburg\, 20099
CATEGORIES:Fortbildung
ATTACH;FMTTYPE=image/jpeg:https://www.guided-implants.com/wp-content/uploads/2026/02/WhatsApp-Image-2026-01-30-at-16.18.56-1.jpeg
ORGANIZER;CN="IGI - Institute for Guided Implantology":MAILTO:institute@guided-implants.com
END:VEVENT
END:VCALENDAR