BEGIN:VCALENDAR
VERSION:2.0
PRODID:-//IGI - Institut für Navigierte Implantologie - ECPv6.15.17.1//NONSGML v1.0//EN
CALSCALE:GREGORIAN
METHOD:PUBLISH
X-WR-CALNAME:IGI - Institut für Navigierte Implantologie
X-ORIGINAL-URL:https://www.guided-implants.com
X-WR-CALDESC:Veranstaltungen für IGI - Institut für Navigierte Implantologie
REFRESH-INTERVAL;VALUE=DURATION:PT1H
X-Robots-Tag:noindex
X-PUBLISHED-TTL:PT1H
BEGIN:VTIMEZONE
TZID:Europe/Berlin
BEGIN:DAYLIGHT
TZOFFSETFROM:+0100
TZOFFSETTO:+0200
TZNAME:CEST
DTSTART:20250330T010000
END:DAYLIGHT
BEGIN:STANDARD
TZOFFSETFROM:+0200
TZOFFSETTO:+0100
TZNAME:CET
DTSTART:20251026T010000
END:STANDARD
BEGIN:DAYLIGHT
TZOFFSETFROM:+0100
TZOFFSETTO:+0200
TZNAME:CEST
DTSTART:20260329T010000
END:DAYLIGHT
BEGIN:STANDARD
TZOFFSETFROM:+0200
TZOFFSETTO:+0100
TZNAME:CET
DTSTART:20261025T010000
END:STANDARD
BEGIN:DAYLIGHT
TZOFFSETFROM:+0100
TZOFFSETTO:+0200
TZNAME:CEST
DTSTART:20270328T010000
END:DAYLIGHT
BEGIN:STANDARD
TZOFFSETFROM:+0200
TZOFFSETTO:+0100
TZNAME:CET
DTSTART:20271031T010000
END:STANDARD
END:VTIMEZONE
BEGIN:VEVENT
DTSTART;TZID=Europe/Berlin:20260624T183000
DTEND;TZID=Europe/Berlin:20260624T210000
DTSTAMP:20260424T183539
CREATED:20260219T142239Z
LAST-MODIFIED:20260219T142239Z
UID:3062-1782325800-1782334800@www.guided-implants.com
SUMMARY:Der ästhetische Notfall – Sofortversorgung im Frontzahnbereich sicher meistern.
DESCRIPTION:Der ästhetische Notfall – Sofortversorgung im Frontzahnbereich sicher meistern\nDie Sofortversorgung im Frontzahnbereich zählt zu den anspruchsvollsten Situationen im implantologischen Praxisalltag. Neben einer präzisen chirurgischen Umsetzung entscheidet vor allem eine vorausschauende prothetische Planung über den langfristigen ästhetischen und funktionellen Erfolg. Genau hier setzt diese Fortbildung an. \nIm Mittelpunkt steht das strukturierte Backward Planning als Grundlage einer sicheren Sofortversorgung. Von der prothetischen Zielsetzung ausgehend werden chirurgische und implantologische Entscheidungen planbar gemacht\, um auch in anspruchsvollen Situationen reproduzierbare Ergebnisse zu erzielen. \nDie Veranstaltung verbindet bewusst theoretische Grundlagen mit praxisnaher Umsetzung. Anhand klinischer Fallbeispiele zeigen die Referenten\, wie digitale Planung\, geführte Chirurgie und abgestimmte Behandlungsabläufe erfolgreich in den Praxisalltag integriert werden können. Gleichzeitig werden typische Herausforderungen\, Entscheidungswege und mögliche Grenzen der Sofortversorgung offen diskutiert. \nEin weiterer Schwerpunkt liegt auf effizienten digitalen Workflows\, die eine präzise Planung und sichere Umsetzung ermöglichen – von der Fallanalyse über Mock-ups bis zur geführten Implantation und prothetischen Versorgung. \nNeben den Fachvorträgen lebt der Fortbildungsabend vom kollegialen Austausch. Fallbeispiele\, praktische Erfahrungen und unterschiedliche Therapieansätze werden gemeinsam reflektiert\, mit dem klaren Fokus auf Alltagstauglichkeit und unmittelbarer Umsetzbarkeit in der eigenen Praxis. \nAbgerundet wird der Abend durch ein entspanntes Get-together mit Fingerfood und Getränken. In persönlicher Atmosphäre entsteht Raum für Fragen\, Diskussionen und neue Impulse – ganz im Sinne einer Fortbildung\, die praxisrelevantes Wissen vermittelt und gleichzeitig den fachlichen Austausch fördert. \nRichard Weik ist Geschäftsführer und Vertriebsleiter von MegaGen Deutschland und Österreich. Als „Mr. Digital“ entwickelt er mit seinem Team innovative digitale Lösungen für Zahnärzte und begleitet Praxisteams bei der erfolgreichen Umsetzung in der Implantologie. Mit seiner umfassenden Expertise ist er ein gefragter Referent rund um das Thema digitale Implantologie. \nDr. Dr. Norman von Sternberg ist Facharzt für Mund-\, Kiefer- und Gesichtschirurgie\, Fachzahnarzt für Oralchirurgie. Seit 2008 führt er eine eigene Praxis in Hamburg. Sein fachlicher Schwerpunkt liegt in der digital geplanten\, schablonengeführten Implantologie. \nJohanna Orlowski ist als angestellte Zahnärztin tätig und absolviert derzeit ihren Master im Bereich Oralchirurgie und Implantologie. Ihr Behandlungsschwerpunkt liegt in der digital geplanten\, schablonengeführten Implantologie. \n\n\n  \n \n\nInhalt der Fortbildung\nVortrag 1 | Richard Weik\nProthetisch-ästhetisches Denken von Anfang an\n\nNotfallversorgung aus Sicht der späteren definitiven Versorgung (Form\, Position\, Emergenzprofil)\nBackward Planning als prothetisch orientierter Planungsansatz\nInterdisziplinäre Planung (frühe Einbindung von Zahntechnik & Behandler)\nDigitale Soforthilfen: Mock-ups\, Referenzzähne\, digitale Vorlagen\nDigitaler Workflow: Exocad\n\nVortrag 2 | Dr. Dr. Norman von Sternberg\nPraxisorientierte Falldiskussion\n\nKlinische Fallbeispiele (AnyRidge & Blue Diamond)\nInteraktive Analyse unterschiedlicher Therapieoptionen\nUmsetzung des Backward-Planning-Konzepts im MKG-chirurgischen Praxisalltag\n\nVortrag 3 | Johanna Orlowski\nBackward Planning mit R2Gate\n\nDigitale Implantatplanung für maximale Präzision und Vorhersagbarkeit\nGeführte Chirurgie\nPraxisnaher Workflow mit R2Gate\n\nReferenten\n\nDr. Dr. Norman von Sternberg &#8211; Facharzt für Mund-\, Kiefer- und Gesichtschirurgie\, Fachzahnarzt für Oralchirurgie\nRichard Weik &#8211; Geschäftsführer und Vertriebsleiter von MegaGen Deutschland und Österreich\nJohanna Orlowski &#8211; Zahnärztin\n\n\nSie erhalten 2 CME-Punkte. Teilnahme kostenlos.
URL:https://www.guided-implants.com/veranstaltung/der-aesthetische-notfall-sofortversorgung-im-frontzahnbereich-sicher-meistern/
LOCATION:Praxis von Sternberg\, Spadenteich 1\, Hamburg\, 20099
CATEGORIES:Fortbildung
ATTACH;FMTTYPE=image/jpeg:https://www.guided-implants.com/wp-content/uploads/2025/09/g2.jpg
ORGANIZER;CN="IGI - Institute for Guided Implantology":MAILTO:institute@guided-implants.com
END:VEVENT
END:VCALENDAR