BEGIN:VCALENDAR
VERSION:2.0
PRODID:-//IGI - Institut für Navigierte Implantologie - ECPv6.15.17.1//NONSGML v1.0//EN
CALSCALE:GREGORIAN
METHOD:PUBLISH
X-ORIGINAL-URL:https://www.guided-implants.com
X-WR-CALDESC:Veranstaltungen für IGI - Institut für Navigierte Implantologie
REFRESH-INTERVAL;VALUE=DURATION:PT1H
X-Robots-Tag:noindex
X-PUBLISHED-TTL:PT1H
BEGIN:VTIMEZONE
TZID:Europe/Berlin
BEGIN:DAYLIGHT
TZOFFSETFROM:+0100
TZOFFSETTO:+0200
TZNAME:CEST
DTSTART:20240331T010000
END:DAYLIGHT
BEGIN:STANDARD
TZOFFSETFROM:+0200
TZOFFSETTO:+0100
TZNAME:CET
DTSTART:20241027T010000
END:STANDARD
BEGIN:DAYLIGHT
TZOFFSETFROM:+0100
TZOFFSETTO:+0200
TZNAME:CEST
DTSTART:20250330T010000
END:DAYLIGHT
BEGIN:STANDARD
TZOFFSETFROM:+0200
TZOFFSETTO:+0100
TZNAME:CET
DTSTART:20251026T010000
END:STANDARD
BEGIN:DAYLIGHT
TZOFFSETFROM:+0100
TZOFFSETTO:+0200
TZNAME:CEST
DTSTART:20260329T010000
END:DAYLIGHT
BEGIN:STANDARD
TZOFFSETFROM:+0200
TZOFFSETTO:+0100
TZNAME:CET
DTSTART:20261025T010000
END:STANDARD
END:VTIMEZONE
BEGIN:VEVENT
DTSTART;TZID=Europe/Berlin:20251015T183000
DTEND;TZID=Europe/Berlin:20251015T210000
DTSTAMP:20260425T020457
CREATED:20250908T143151Z
LAST-MODIFIED:20260203T152126Z
UID:3027-1760553000-1760562000@www.guided-implants.com
SUMMARY:Backward Planning – die perfekte Symbiose zwischen Prothetik und Chirurgie
DESCRIPTION:Backward Planning – die perfekte Symbiose zwischen Prothetik und Chirurgie.\nDas Backward Planning stellt eine grundlegende Umkehrung des klassischen implantologischen Planungsansatzes dar. Statt – wie traditionell üblich – von der chirurgischen Ausgangssituation auszugehen\, beginnt dieses Konzept bei der prothetischen Zielsetzung. Die spätere Versorgung definiert somit bereits in der Planungsphase die optimale Implantatposition. \nEin wesentlicher Bestandteil ist die interdisziplinäre Zusammenarbeit. Der Zahntechniker wird frühzeitig in den Prozess eingebunden\, um gemeinsam mit Chirurgen und Behandlern ein funktionales und ästhetisches Gesamtkonzept zu entwickeln. Dabei spielt der digitale Workflow eine zentrale Rolle: Exocad-Mockups lassen sich nahtlos in die R2Gate-Software integrieren\, die als präzises Planungstool für die Implantologie dient. \nDurch die Kombination von digitaler Planung und Guided Surgery entsteht ein Höchstmaß an Genauigkeit und Wiederholbarkeit. Implantate wie AnyRidge und Blue Diamond werden gezielt im Rahmen des Backward Planning eingesetzt und ermöglichen ein vorhersagbares chirurgisches Vorgehen. \nWährend Richard Weik in seinem Vortrag die Grundlagen dieses Konzepts erläutert\, überträgt Dr. Dr. Norman von Sternberg die Theorie in die Praxis. Anhand klinischer Fälle zeigt er konkrete Behandlungsbeispiele und lädt zur interaktiven Diskussion unterschiedlicher Behandlungsszenarien ein. Der Fokus liegt dabei auf dem Praxistransfer – der erfolgreichen Umsetzung des Backward Planning in realen Patientenfällen. \nRichard Weik ist Geschäftsführer und Vertriebsleiter von MegaGen Deutschland und Österreich. Als „Mr. Digital“ entwickelt er gemeinsam mit seinem Team innovative digitale Lösungen für Zahnärzte und Praxisteams und begleitet sie bei der erfolgreichen Umsetzung moderner Workflows. \nDr. Dr. Norman von Sternberg ist Facharzt für Mund-\, Kiefer- und Gesichtschirurgie sowie Fachzahnarzt für Oralchirurgie. Nach wissenschaftlicher Tätigkeit an den Universitätskliniken Kiel und Hamburg-Eppendorf führt er seit 2008 eine eigene Praxis in Hamburg. Seine Schwerpunkte liegen in der Implantologie und ästhetischen Zahnheilkunde. Mit seiner langjährigen Erfahrung ist er ein gefragter Referent für praxisnahe Falldiskussionen und moderne Konzepte in der Implantologie. \n\n\n  \n \n\nInhalt der Fortbildung\nVortrag 1 | Richard Weik\nGrundlagen des Backward Planning\nBackward Planning-Konzept: Von der Prothetik zur Chirurgie &#8211; Umkehrung des traditionellen Planungsablaufs\nInterdisziplinäre Zusammenarbeit: Frühzeitige Einbindung des Zahntechnikers in den Planungsprozess\nDigitaler Workflow: Integration von Exocad-Mockups in R2gate-Software\nR2Gate-Software: Digitales Planungstool für präzise Implantatplanung\nGuided Surgery: Erhöhte Wiederholbarkeit und Genauigkeit durch geführte Chirurgie\nImplantatsysteme: Anwendung von AnyRidge und Blue Diamond im Backward Planning\n\nVortrag 2 | Dr. Dr. Norman von Sternberg\nPraxisnahe Falldiskussion\nKlinische Fälle: Konkrete Behandlungsbeispiele mit AnyRidge und Blue Diamond\nInteraktive Diskussion: Analyse verschiedener Behandlungsszenarien\nPraxistransfer: Umsetzung der Backward Planning-Theorie in realen Patientenfällen\n\nReferenten\n\nDr. Dr. Norman von Sternberg &#8211; Facharzt für Mund-\, Kiefer- und Gesichtschirurgie\, Fachzahnarzt für Oralchirurgie\nRichard Weik &#8211; Geschäftsführer und Vertriebsleiter von MegaGen Deutschland und Österreich\n\n\nSie erhalten 2 CME-Punkte. Teilnahme kostenlos.
URL:https://www.guided-implants.com/veranstaltung/backward-planning-die-perfekte-symbiose-zwischen-prothetik-und-chirurgie/
LOCATION:Praxis von Sternberg\, Spadenteich 1\, Hamburg\, 20099
CATEGORIES:Fortbildung
ATTACH;FMTTYPE=image/jpeg:https://www.guided-implants.com/wp-content/uploads/2025/09/g2.jpg
ORGANIZER;CN="IGI - Institute for Guided Implantology":MAILTO:institute@guided-implants.com
END:VEVENT
END:VCALENDAR